BEGIN:VCALENDAR
VERSION:2.0
PRODID:-//Rochester Nonprofit Consortium - ECPv6.15.20//NONSGML v1.0//EN
CALSCALE:GREGORIAN
METHOD:PUBLISH
X-ORIGINAL-URL:https://rochesternonprofitconsortium.org
X-WR-CALDESC:Events for Rochester Nonprofit Consortium
REFRESH-INTERVAL;VALUE=DURATION:PT1H
X-Robots-Tag:noindex
X-PUBLISHED-TTL:PT1H
BEGIN:VTIMEZONE
TZID:America/Chicago
BEGIN:DAYLIGHT
TZOFFSETFROM:-0600
TZOFFSETTO:-0500
TZNAME:CDT
DTSTART:20240310T080000
END:DAYLIGHT
BEGIN:STANDARD
TZOFFSETFROM:-0500
TZOFFSETTO:-0600
TZNAME:CST
DTSTART:20241103T070000
END:STANDARD
BEGIN:DAYLIGHT
TZOFFSETFROM:-0600
TZOFFSETTO:-0500
TZNAME:CDT
DTSTART:20250309T080000
END:DAYLIGHT
BEGIN:STANDARD
TZOFFSETFROM:-0500
TZOFFSETTO:-0600
TZNAME:CST
DTSTART:20251102T070000
END:STANDARD
BEGIN:DAYLIGHT
TZOFFSETFROM:-0600
TZOFFSETTO:-0500
TZNAME:CDT
DTSTART:20260308T080000
END:DAYLIGHT
BEGIN:STANDARD
TZOFFSETFROM:-0500
TZOFFSETTO:-0600
TZNAME:CST
DTSTART:20261101T070000
END:STANDARD
END:VTIMEZONE
BEGIN:VEVENT
DTSTART;TZID=America/Chicago:20250108T163000
DTEND;TZID=America/Chicago:20250108T183000
DTSTAMP:20260424T101906
CREATED:20240926T002632Z
LAST-MODIFIED:20241203T191220Z
UID:193-1736353800-1736361000@rochesternonprofitconsortium.org
SUMMARY:Board Academy - Session 1
DESCRIPTION:
URL:https://rochesternonprofitconsortium.org/event/board-academy-session-1/
LOCATION:MN
CATEGORIES:Board Academy
ATTACH;FMTTYPE=image/png:https://rochesternonprofitconsortium.org/wp-content/uploads/2024/09/Meeting-pana.png
END:VEVENT
END:VCALENDAR