BEGIN:VCALENDAR
VERSION:2.0
PRODID:-//Rochester Nonprofit Consortium - ECPv6.15.20//NONSGML v1.0//EN
CALSCALE:GREGORIAN
METHOD:PUBLISH
X-ORIGINAL-URL:https://rochesternonprofitconsortium.org
X-WR-CALDESC:Events for Rochester Nonprofit Consortium
REFRESH-INTERVAL;VALUE=DURATION:PT1H
X-Robots-Tag:noindex
X-PUBLISHED-TTL:PT1H
BEGIN:VTIMEZONE
TZID:America/Chicago
BEGIN:DAYLIGHT
TZOFFSETFROM:-0600
TZOFFSETTO:-0500
TZNAME:CDT
DTSTART:20250309T080000
END:DAYLIGHT
BEGIN:STANDARD
TZOFFSETFROM:-0500
TZOFFSETTO:-0600
TZNAME:CST
DTSTART:20251102T070000
END:STANDARD
BEGIN:DAYLIGHT
TZOFFSETFROM:-0600
TZOFFSETTO:-0500
TZNAME:CDT
DTSTART:20260308T080000
END:DAYLIGHT
BEGIN:STANDARD
TZOFFSETFROM:-0500
TZOFFSETTO:-0600
TZNAME:CST
DTSTART:20261101T070000
END:STANDARD
BEGIN:DAYLIGHT
TZOFFSETFROM:-0600
TZOFFSETTO:-0500
TZNAME:CDT
DTSTART:20270314T080000
END:DAYLIGHT
BEGIN:STANDARD
TZOFFSETFROM:-0500
TZOFFSETTO:-0600
TZNAME:CST
DTSTART:20271107T070000
END:STANDARD
END:VTIMEZONE
BEGIN:VEVENT
DTSTART;TZID=America/Chicago:20260610T153000
DTEND;TZID=America/Chicago:20260610T163000
DTSTAMP:20260423T121633
CREATED:20250220T161131Z
LAST-MODIFIED:20260113T195247Z
UID:1046-1781105400-1781109000@rochesternonprofitconsortium.org
SUMMARY:June Executive Director Convo
DESCRIPTION:Join your Executive Director colleagues for networking\, support\, and shared resources in a casual\, no agenda atmosphere. Discussions are often enjoyed with beverages and light appetizers.
URL:https://rochesternonprofitconsortium.org/event/june-executive-director-convo/
LOCATION:Forager Brewery\, 1005 6th St NW\, Rochester\, MN\, 55901\, United States
CATEGORIES:Executive Director Convo
ATTACH;FMTTYPE=image/png:https://rochesternonprofitconsortium.org/wp-content/uploads/2024/09/afterwork-rafiki.png
END:VEVENT
END:VCALENDAR