BEGIN:VCALENDAR
VERSION:2.0
PRODID:-//Rochester Nonprofit Consortium - ECPv6.15.20//NONSGML v1.0//EN
CALSCALE:GREGORIAN
METHOD:PUBLISH
X-WR-CALNAME:Rochester Nonprofit Consortium
X-ORIGINAL-URL:https://rochesternonprofitconsortium.org
X-WR-CALDESC:Events for Rochester Nonprofit Consortium
REFRESH-INTERVAL;VALUE=DURATION:PT1H
X-Robots-Tag:noindex
X-PUBLISHED-TTL:PT1H
BEGIN:VTIMEZONE
TZID:America/Chicago
BEGIN:DAYLIGHT
TZOFFSETFROM:-0600
TZOFFSETTO:-0500
TZNAME:CDT
DTSTART:20230312T080000
END:DAYLIGHT
BEGIN:STANDARD
TZOFFSETFROM:-0500
TZOFFSETTO:-0600
TZNAME:CST
DTSTART:20231105T070000
END:STANDARD
BEGIN:DAYLIGHT
TZOFFSETFROM:-0600
TZOFFSETTO:-0500
TZNAME:CDT
DTSTART:20240310T080000
END:DAYLIGHT
BEGIN:STANDARD
TZOFFSETFROM:-0500
TZOFFSETTO:-0600
TZNAME:CST
DTSTART:20241103T070000
END:STANDARD
BEGIN:DAYLIGHT
TZOFFSETFROM:-0600
TZOFFSETTO:-0500
TZNAME:CDT
DTSTART:20250309T080000
END:DAYLIGHT
BEGIN:STANDARD
TZOFFSETFROM:-0500
TZOFFSETTO:-0600
TZNAME:CST
DTSTART:20251102T070000
END:STANDARD
END:VTIMEZONE
BEGIN:VEVENT
DTSTART;TZID=America/Chicago:20241108T110000
DTEND;TZID=America/Chicago:20241108T130000
DTSTAMP:20260423T175411
CREATED:20240926T002628Z
LAST-MODIFIED:20241105T205539Z
UID:187-1731063600-1731070800@rochesternonprofitconsortium.org
SUMMARY:Board Member Roundtable
DESCRIPTION:EFFECTIVE BOARD LEADERSHIP\nLeading your nonprofit can be rewarding and often challenging as a volunteer board member. Board Roundtables give you dedicated time\, without nonprofit staff members present\, to ask questions and discuss topics critical to effective board leadership.\n\n\n\n\n\nEach free 2-hour session is limited to 30 participants to encourage discussion and the opportunity to connect with other board members.\nRoundtables begin with a facilitator introducing the topic and sharing best practices based on their experience.\nSessions also include small group networking opportunities and plenty of time for participants to ask questions and share challenges and successes\, so board members can learn from each other.\nA boxed lunch will be provided.
URL:https://rochesternonprofitconsortium.org/event/board-member-roundtable/
LOCATION:Rochester Area Foundation\, 12 Elton Hills Dr NW\, Rochester\, MN\, 55901\, United States
CATEGORIES:Board Member Roundtable
ATTACH;FMTTYPE=image/png:https://rochesternonprofitconsortium.org/wp-content/uploads/2024/09/Meeting-pana.png
END:VEVENT
BEGIN:VEVENT
DTSTART;TZID=America/Chicago:20241024T100000
DTEND;TZID=America/Chicago:20241024T120000
DTSTAMP:20260423T175411
CREATED:20240926T052720Z
LAST-MODIFIED:20241002T210649Z
UID:223-1729764000-1729771200@rochesternonprofitconsortium.org
SUMMARY:October Expert Office Hours - Sarah Richardson\, Neighborly Group
DESCRIPTION:
URL:https://rochesternonprofitconsortium.org/event/october-expert-office-hours-sarah-richardson-neighborly-group/
LOCATION:Virtual
CATEGORIES:Expert Office Hours
ATTACH;FMTTYPE=image/jpeg:https://rochesternonprofitconsortium.org/wp-content/uploads/2024/09/neighborly-creative-featured.jpg
END:VEVENT
BEGIN:VEVENT
DTSTART;TZID=America/Chicago:20241023T163000
DTEND;TZID=America/Chicago:20241023T193000
DTSTAMP:20260423T175411
CREATED:20240926T002628Z
LAST-MODIFIED:20240927T021705Z
UID:186-1729701000-1729711800@rochesternonprofitconsortium.org
SUMMARY:Ready to Lead - Fall Session 2
DESCRIPTION:
URL:https://rochesternonprofitconsortium.org/event/ready-to-lead-fall-session-2/
LOCATION:Rochester Area Foundation\, 12 Elton Hills Dr NW\, Rochester\, MN\, 55901\, United States
CATEGORIES:Ready to Lead
ATTACH;FMTTYPE=image/png:https://rochesternonprofitconsortium.org/wp-content/uploads/2024/09/Team-spirit-rafiki.png
END:VEVENT
END:VCALENDAR