BEGIN:VCALENDAR
VERSION:2.0
PRODID:-//Rochester Nonprofit Consortium - ECPv6.15.20//NONSGML v1.0//EN
CALSCALE:GREGORIAN
METHOD:PUBLISH
X-ORIGINAL-URL:https://rochesternonprofitconsortium.org
X-WR-CALDESC:Events for Rochester Nonprofit Consortium
REFRESH-INTERVAL;VALUE=DURATION:PT1H
X-Robots-Tag:noindex
X-PUBLISHED-TTL:PT1H
BEGIN:VTIMEZONE
TZID:America/Chicago
BEGIN:DAYLIGHT
TZOFFSETFROM:-0600
TZOFFSETTO:-0500
TZNAME:CDT
DTSTART:20250309T080000
END:DAYLIGHT
BEGIN:STANDARD
TZOFFSETFROM:-0500
TZOFFSETTO:-0600
TZNAME:CST
DTSTART:20251102T070000
END:STANDARD
BEGIN:DAYLIGHT
TZOFFSETFROM:-0600
TZOFFSETTO:-0500
TZNAME:CDT
DTSTART:20260308T080000
END:DAYLIGHT
BEGIN:STANDARD
TZOFFSETFROM:-0500
TZOFFSETTO:-0600
TZNAME:CST
DTSTART:20261101T070000
END:STANDARD
BEGIN:DAYLIGHT
TZOFFSETFROM:-0600
TZOFFSETTO:-0500
TZNAME:CDT
DTSTART:20270314T080000
END:DAYLIGHT
BEGIN:STANDARD
TZOFFSETFROM:-0500
TZOFFSETTO:-0600
TZNAME:CST
DTSTART:20271107T070000
END:STANDARD
END:VTIMEZONE
BEGIN:VEVENT
DTSTART;TZID=America/Chicago:20260708T080000
DTEND;TZID=America/Chicago:20260708T090000
DTSTAMP:20260423T160748
CREATED:20251223T221925Z
LAST-MODIFIED:20260113T195233Z
UID:1202-1783497600-1783501200@rochesternonprofitconsortium.org
SUMMARY:July Executive Director Convo
DESCRIPTION:Join your Executive Director colleagues for networking\, support\, and shared resources in a casual\, no agenda atmosphere. Discussions are often enjoyed with beverages and a light breakfast.
URL:https://rochesternonprofitconsortium.org/event/july-executive-director-convo/
LOCATION:Parlor Doughnuts\, 1001 6th St NW\, Rochester\, 55901\, United States
CATEGORIES:Executive Director Convo
ATTACH;FMTTYPE=image/png:https://rochesternonprofitconsortium.org/wp-content/uploads/2024/09/afterwork-rafiki.png
END:VEVENT
BEGIN:VEVENT
DTSTART;TZID=America/Chicago:20260812T153000
DTEND;TZID=America/Chicago:20260812T163000
DTSTAMP:20260423T160748
CREATED:20251223T222144Z
LAST-MODIFIED:20260113T195219Z
UID:1204-1786548600-1786552200@rochesternonprofitconsortium.org
SUMMARY:August Executive Director Convo
DESCRIPTION:Join your Executive Director colleagues for networking\, support\, and shared resources in a casual\, no agenda atmosphere. Discussions are often enjoyed with beverages and light appetizers.
URL:https://rochesternonprofitconsortium.org/event/august-executive-director-convo/
LOCATION:Forager Brewery\, 1005 6th St NW\, Rochester\, MN\, 55901\, United States
CATEGORIES:Executive Director Convo
ATTACH;FMTTYPE=image/png:https://rochesternonprofitconsortium.org/wp-content/uploads/2024/09/afterwork-rafiki.png
END:VEVENT
BEGIN:VEVENT
DTSTART;TZID=America/Chicago:20260909T080000
DTEND;TZID=America/Chicago:20260909T090000
DTSTAMP:20260423T160748
CREATED:20251223T222713Z
LAST-MODIFIED:20260113T195204Z
UID:1208-1788940800-1788944400@rochesternonprofitconsortium.org
SUMMARY:September Executive Director Convo
DESCRIPTION:Join your Executive Director colleagues for networking\, support\, and shared resources in a casual\, no agenda atmosphere. Discussions are often enjoyed with beverages and a light breakfast.
URL:https://rochesternonprofitconsortium.org/event/september-executive-director-convo/
LOCATION:Parlor Doughnuts\, 1001 6th St NW\, Rochester\, 55901\, United States
CATEGORIES:Executive Director Convo
ATTACH;FMTTYPE=image/png:https://rochesternonprofitconsortium.org/wp-content/uploads/2024/09/afterwork-rafiki.png
END:VEVENT
BEGIN:VEVENT
DTSTART;TZID=America/Chicago:20261014T153000
DTEND;TZID=America/Chicago:20261014T163000
DTSTAMP:20260423T160748
CREATED:20240926T002627Z
LAST-MODIFIED:20260113T195152Z
UID:185-1791991800-1791995400@rochesternonprofitconsortium.org
SUMMARY:October Executive Director Convo
DESCRIPTION:Join your Executive Director colleagues for networking\, support\, and shared resources in a casual\, no agenda atmosphere. Discussions are often enjoyed with beverages and light appetizers.
URL:https://rochesternonprofitconsortium.org/event/october-executive-director-convo/
LOCATION:Forager Brewery\, 1005 6th St NW\, Rochester\, MN\, 55901\, United States
CATEGORIES:Executive Director Convo
ATTACH;FMTTYPE=image/png:https://rochesternonprofitconsortium.org/wp-content/uploads/2024/09/afterwork-rafiki.png
END:VEVENT
BEGIN:VEVENT
DTSTART;TZID=America/Chicago:20261111T080000
DTEND;TZID=America/Chicago:20261111T090000
DTSTAMP:20260423T160748
CREATED:20240926T002628Z
LAST-MODIFIED:20260113T195119Z
UID:189-1794384000-1794387600@rochesternonprofitconsortium.org
SUMMARY:November Executive Director Convo
DESCRIPTION:Join your Executive Director colleagues for networking\, support\, and shared resources in a casual\, no agenda atmosphere. Discussions are often enjoyed with beverages and a light breakfast.
URL:https://rochesternonprofitconsortium.org/event/november-executive-director-convo/
LOCATION:Parlor Doughnuts\, 1001 6th St NW\, Rochester\, 55901\, United States
CATEGORIES:Executive Director Convo
ATTACH;FMTTYPE=image/png:https://rochesternonprofitconsortium.org/wp-content/uploads/2024/09/afterwork-rafiki.png
END:VEVENT
BEGIN:VEVENT
DTSTART;TZID=America/Chicago:20261209T153000
DTEND;TZID=America/Chicago:20261209T163000
DTSTAMP:20260423T160748
CREATED:20241004T170505Z
LAST-MODIFIED:20260113T195045Z
UID:673-1796830200-1796833800@rochesternonprofitconsortium.org
SUMMARY:December Executive Director Convo
DESCRIPTION:Join your Executive Director colleagues for networking\, support\, and shared resources in a casual\, no agenda atmosphere. Discussions are often enjoyed with beverages and light appetizers.
URL:https://rochesternonprofitconsortium.org/event/december-executive-director-convo/
LOCATION:Forager Brewery\, 1005 6th St NW\, Rochester\, MN\, 55901\, United States
CATEGORIES:Executive Director Convo
ATTACH;FMTTYPE=image/png:https://rochesternonprofitconsortium.org/wp-content/uploads/2024/09/afterwork-rafiki.png
END:VEVENT
END:VCALENDAR